BEGIN:VCALENDAR
PRODID:-//AT Content Types//AT Event//EN
VERSION:2.0
METHOD:PUBLISH
BEGIN:VEVENT
DTSTAMP:20260424T101759Z
CREATED:20061114T043028Z
UID:ATEvent-f29eb553ba94d39bf7c72a4afcc52b77
LAST-MODIFIED:20061114T054811Z
SUMMARY:A hundred years of group representation
DTSTART:19970430T150000Z
DTEND:19970430T160000Z
DESCRIPTION:by J. A. Green (University of Warwick\, Conventry\, Great 
 Britain)
LOCATION:CIUL\, amphitheatre
CATEGORIES:event: mathematics colloquium
CLASS:PUBLIC
END:VEVENT
END:VCALENDAR
