BEGIN:VCALENDAR
PRODID:-//AT Content Types//AT Event//EN
VERSION:2.0
METHOD:PUBLISH
BEGIN:VEVENT
DTSTAMP:20260426T001454Z
CREATED:20120222T161205Z
UID:ATEvent-29e8b7c3f425812e7f72864215b170ff
LAST-MODIFIED:20120223T094638Z
SUMMARY:Minicourse on Heat Equation and polynomial dynamical systems - Part 2
DTSTART:20120301T141500Z
DTEND:20120301T153000Z
DESCRIPTION:by Victor M. Buchstaber (Steklov Mathematical Institute\, 
 Russian Academy of Sciences)
LOCATION:IIIUL\, B1-01
CATEGORIES:event: gfm seminar
CLASS:PUBLIC
END:VEVENT
END:VCALENDAR
