BEGIN:VCALENDAR
PRODID:-//AT Content Types//AT Event//EN
VERSION:1.0
BEGIN:VEVENT
DTSTART:20070614T143000Z
DTEND:20070614T153000Z
DCREATED:20070612T130708Z
UID:ATEvent-208cf1c0b09155aaa0109950cd0f7478
SEQUENCE:0
LAST-MODIFIED:20070612T130716Z
SUMMARY:Uses of Brownian motion in brain imaging and neuroscience
DESCRIPTION:by Nicolas Lori (Visiting Researcher at CMAF)
LOCATION:CIUL\, B1-01
PRIORITY:3
TRANSP:0
END:VEVENT
END:VCALENDAR
