BEGIN:VCALENDAR
PRODID:-//AT Content Types//AT Event//EN
VERSION:1.0
BEGIN:VEVENT
DTSTART:20150128T143000Z
DTEND:20150128T153000Z
DCREATED:20150114T110605Z
UID:ATEvent-8ac18f4634cf079da832926a315f29b8
SEQUENCE:0
LAST-MODIFIED:20150114T111036Z
SUMMARY:The Octonions
DESCRIPTION:by John Huerta (CAMGSD\, Instituto Superior Técnico)
LOCATION:IIIUL\, B3-01
PRIORITY:3
TRANSP:0
END:VEVENT
END:VCALENDAR
